BEGIN:VCALENDAR
VERSION:2.0
PRODID:-//artifica.one//Chambon-la-Fôret//FR
CALSCALE:GREGORIAN
METHOD:PUBLISH
BEGIN:VEVENT
SUMMARY:Bar Ephémère
UID:3604
SEQUENCE:0
STATUS:CONFIRMED
TRANSP:TRANSPARENT
DTSTART:20260501T060000Z
DTEND:20260911T180000Z
DTSTAMP:20260423T064640Z

DESCRIPTION:
URL:https://www.chambonlaforet.fr/agenda/bar-ephemere-3604
END:VEVENT
END:VCALENDAR
