BEGIN:VCALENDAR
VERSION:2.0
PRODID:-//artifica.one//Chambon-la-Fôret//FR
CALSCALE:GREGORIAN
METHOD:PUBLISH
BEGIN:VEVENT
SUMMARY:thé dansant
UID:3407
SEQUENCE:0
STATUS:CONFIRMED
TRANSP:TRANSPARENT
DTSTART:20260215T070000Z
DTEND:20260215T190000Z
DTSTAMP:20260119T155439Z

DESCRIPTION:
URL:https://www.chambonlaforet.fr/agenda/the-dansant-3407
END:VEVENT
END:VCALENDAR
